Workbook

Sheet ESTIMACIÓN DE INGRESOS
A1: Estimación de Ingresos por Clasificación por Rubro de Ingresos y Ley de Ingresos Municipal - 2019
A2: INSTITUTO MUNICIPAL DE LAS MUJERES DE IXTLAHUACAN DE LOS MEMBRILLOS, JALISCO.
A3: CRI/LI | B3: DESCRIPCIÓN | C3: INGRESO ESTIMADO ANUAL
A6: 1 | B6: IMPUESTOS | C6: =SUM(C7+C9+C13+C14+C15+C16+C17+C23+C24) -> 0
A7: 1.1 | B7: IMPUESTOS SOBRE LOS INGRESOS | C7: =SUM(C8) -> 0
A8: 1.1.1 | B8: Impuestos sobre espectáculos públicos
A9: 1.2 | B9: IMPUESTOS SOBRE EL PATRIMONIO | C9: =SUM(C10:C12) -> 0
A10: 1.2.1 | B10: Impuesto predial
A11: 1.2.2 | B11: Impuesto sobre transmisiones patrimoniales
A12: 1.2.3 | B12: Impuestos sobre negocios jurídicos
A13: 1.3 | B13: IMPUESTO SOBRE LA PRODUCCIÓN, EL CONSUMO Y LAS TRANSACCIONES
A14: 1.4 | B14: IMPUESTOS AL COMERCIO EXTERIOR
A15: 1.5 | B15: IMPUESTOS SOBRE NÓMINAS Y ASIMILABLES
A16: 1.6 | B16: IMPUESTOS ECOLÓGICOS
A17: 1.7 | B17: ACCESORIOS DE LOS IMPUESTOS | C17: =SUM(C18:C22) -> 0
A18: 1.7.1 | B18: Recargos
A19: 1.7.2 | B19: Multas
A20: 1.7.3 | B20: Intereses
A21: 1.7.4 | B21: Gastos de ejecución y de embargo
A22: 1.7.9 | B22: Otros no especificados
A23: 1.8 | B23: OTROS IMPUESTOS
A24: 1.9 | B24: IMPUESTOS NO COMPRENDIDOS EN LA LEY DE INGRESOS VIGENTE,CAUSADOS EN EJERCICIOS FISCALES ANTERIORES PENDIENTES DE LIQUIDACIÓN O PAGO
A25: 2 | B25: CUOTAS Y APORTACIONES DE SEGURIDAD SOCIAL | C25: =SUM(C26:C30) -> 0
A26: 2.1 | B26: APORTACIONES PARA FONDOS DE VIVIENDA
A27: 2.2 | B27: CUOTAS PARA EL SEGURO SOCIAL
A28: 2.3 | B28: CUOTAS DE AHORRO PARA EL RETIRO
A29: 2.4 | B29: OTRAS CUOTAS Y APORTACIONES PARA LA SEGURIDAD SOCIAL
A30: 2.5 | B30: ACCESORIOS DE CUOTAS Y APORTACIONES DE SEGURIDAD SOCIAL
A31: 3 | B31: CONTRIBUCIONES DE MEJORAS | C31: =SUM(C32:C33) -> 0
A32: 3.1 | B32: CONTRIBUCIÓN DE MEJORAS POR OBRAS PÚBLICAS
A33: 3.9 | B33: CONTRIBUCIONES DE MEJORAS NO COMPRENDIDAS EN LA LEY DE INGRESOS VIGENTE. CAUSADAS EN EJERCICIOS ANTERIORES PENDIENTES DE LIQUIDACIÓN O PAGO
A34: 4 | B34: DERECHOS | C34: =SUM(C35+C41+C56+C57+C62) -> 0
A35: 4.1 | B35: DERECHOS POR EL USO, GOCE, APROVECHAMIENTO O EXPLOTACIÓN DE BIENES DE DOMINIO PÚBLICO | C35: =SUM(C36:C39) -> 0
A36: 4.1.1 | B36: Uso del piso
A37: 4.1.2 | B37: Estacionamientos
A38: 4.1.3 | B38: De los Cementerios de dominio público
A39: 4.1.4 | B39: Uso, goce, aprovechamiento o explotación de otros bienes de dominio público
A40: 4.2 | B40: DERECHOS A LOS HIDROCARBUROS (Derogado)
A41: 4.3 | B41: DERECHOS POR PRESTACIÓN DE SERVICIOS | C41: =SUM(C42:C55) -> 0
A42: 4.3.1 | B42: Licencias y permisos de giros
...

Sheet PRESUP.EGRESOS FUENTE FINANCIAM
A1: Presupuesto de Egresos por Clasificación por Objeto del Gasto y Fuentes de Financiamiento - 2019
A2: ='ESTIMACIÓN DE INGRESOS'!A2:C2 -> INSTITUTO MUNICIPAL DE LAS MUJERES DE IXTLAHUACAN DE LOS MEMBRILLOS, JALISCO.
A3: COG/FF | B3: DESCRIPCIÓN | C3: 1. NO ETIQUETADO | J3: 2. ETIQUETADO | M3: TOTAL ANUAL
C4: 1.1 RECURSOS FISCALES | D4: 1.2 FINANCIAMIENTOS INTERNOS | E4: 1.3 FINANCIAMIENTOS EXTERNOS | F4: 1.4 INGRESOS PROPIOS | G4: 1.5 RECURSOS FEDERALES | H4: 1.6 RECURSOS ESTATALES | I4: 1.7 OTROS RECURSOS DE LIBRE DISPOSICIÓN | J4: 2.5 RECURSOS FEDERALES | K4: 2.6 RECURSOS ESTATALES | L4: 2.7 OTROS RECURSOS DE TRANSFERENCIAS FEDERALES ETIQUETADAS
A6: 1000 | B6: SERVICIOS PERSONALES | C6: =C7+C12+C17+C26+C31+C38+C40 -> 0 | D6: =D7+D12+D17+D26+D31+D38+D40 -> 0 | E6: =E7+E12+E17+E26+E31+E38+E40 -> 0 | F6: =F7+F12+F17+F26+F31+F38+F40 -> 642643.2 | G6: =G7+G12+G17+G26+G31+G38+G40 -> 0 | H6: =H7+H12+H17+H26+H31+H38+H40 -> 0 | I6: =I7+I12+I17+I26+I31+I38+I40 -> 0 | J6: =J7+J12+J17+J26+J31+J38+J40 -> 0 | ... L6: =L7+L12+L17+L26+L31+L38+L40 -> 0 | M6: =SUM(C6:L6) -> 642643.2 | N6: =N7+N12+N17+N26+N31+N38+N40 -> 0
A7: 1100 | B7: REMUNERACIONES AL PERSONAL DE CARÁCTER PERMANENTE | C7: =SUM(C8:C11) -> 0 | D7: =SUM(D8:D11) -> 0 | E7: =SUM(E8:E11) -> 0 | F7: =SUM(F8:F11) -> 558673.2 | G7: =SUM(G8:G11) -> 0 | H7: =SUM(H8:H11) -> 0 | I7: =SUM(I8:I11) -> 0 | J7: =SUM(J8:J11) -> 0 | ... L7: =SUM(L8:L11) -> 0 | M7: =SUM(C7:L7) -> 558673.2 | O7: 1
A8: 111 | B8: Dietas | M8: =SUM(C8:L8) -> 0 | O8: 2
A9: 112 | B9: Haberes | M9: =SUM(C9:L9) -> 0 | O9: 3
A10: 113 | B10: Sueldos base al personal permanente | F10: 558673.2 | M10: =SUM(C10:L10) -> 558673.2
A11: 114 | B11: Remuneraciones por adscripción laboral en el extranjero | M11: =SUM(C11:L11) -> 0 | O11: 101
A12: 1200 | B12: REMUNERACIONES AL PERSONAL DE CARÁCTER TRANSITORIO | C12: =SUM(C13:C16) -> 0 | D12: =SUM(D13:D16) -> 0 | E12: =SUM(E13:E16) -> 0 | F12: =SUM(F13:F16) -> 5000 | G12: =SUM(G13:G16) -> 0 | H12: =SUM(H13:H16) -> 0 | I12: =SUM(I13:I16) -> 0 | J12: =SUM(J13:J16) -> 0 | ... L12: =SUM(L13:L16) -> 0 | M12: =SUM(C12:L12) -> 5000 | O12: 102
A13: 121 | B13: Honorarios asimilables a salarios | M13: =SUM(C13:L13) -> 0 | O13: 103
A14: 122 | B14: Sueldos base al personal eventual | F14: 5000 | M14: =SUM(C14:L14) -> 5000 | O14: 104
A15: 123 | B15: Retribuciones por servicios de carácter social | M15: =SUM(C15:L15) -> 0 | O15: 105
A16: 124 | B16: Retribución a los representantes de los trabajadores y de los patrones en la Junta de Conciliación y Arbitraje | M16: =SUM(C16:L16) -> 0 | O16: 106
A17: 1300 | B17: REMUNERACIONES ADICIONALES Y ESPECIALES | C17: =SUM(C18:C25) -> 0 | D17: =SUM(D18:D25) -> 0 | E17: =SUM(E18:E25) -> 0 | F17: =SUM(F18:F25) -> 78970 | G17: =SUM(G18:G25) -> 0 | H17: =SUM(H18:H25) -> 0 | I17: =SUM(I18:I25) -> 0 | J17: =SUM(J18:J25) -> 0 | ... L17: =SUM(L18:L25) -> 0 | M17: =SUM(C17:L17) -> 78970 | N17: =SUM(N18:N25) -> 0 | O17: 199
A18: 131 | B18: Primas por años de servicios efectivos prestados | M18: =SUM(C18:L18) -> 0
A19: 132 | B19: Primas de vacaciones, dominical y gratificación de fin de año | F19: 74970 | M19: =SUM(C19:L19) -> 74970 | O19: Infraestructura
A20: 133 | B20: Horas extraordinarias | F20: 4000 | M20: =SUM(C20:L20) -> 4000 | O20: 201
A21: 134 | B21: Compensaciones | M21: =SUM(C21:L21) -> 0 | O21: 203
A22: 135 | B22: Sobrehaberes | M22: =SUM(C22:L22) -> 0 | O22: 205
A23: 136 | B23: Asignaciones de técnico, de mando, por comisión, de vuelo y de técnico especial | M23: =SUM(C23:L23) -> 0 | O23: 207
A24: 137 | B24: Honorarios especiales | M24: =SUM(C24:L24) -> 0 | O24: 209
A25: 138 | B25: Participaciones por vigilancia en el cumplimiento de la leyes y custodia de valores | M25: =SUM(C25:L25) -> 0 | O25: 211
A26: 1400 | B26: SEGURIDAD SOCIAL | C26: =SUM(C27:C30) -> 0 | D26: =SUM(D27:D30) -> 0 | E26: =SUM(E27:E30) -> 0 | F26: =SUM(F27:F30) -> 0 | G26: =SUM(G27:G30) -> 0 | H26: =SUM(H27:H30) -> 0 | I26: =SUM(I27:I30) -> 0 | J26: =SUM(J27:J30) -> 0 | ... L26: =SUM(L27:L30) -> 0 | M26: =SUM(C26:L26) -> 0 | N26: =SUM(N27:N30) -> 0 | O26: 213
A27: 141 | B27: Aportaciones de seguridad social | M27: =SUM(C27:L27) -> 0 | O27: 215
A28: 142 | B28: Aportaciones a fondos de vivienda | M28: =SUM(C28:L28) -> 0 | O28: 217
A29: 143 | B29: Aportaciones al sistema para el retiro | M29: =SUM(C29:L29) -> 0 | O29: 219
A30: 144 | B30: Aportaciones para seguros | M30: =SUM(C30:L30) -> 0 | O30: 221
A31: 1500 | B31: OTRAS PRESTACIONES SOCIALES Y ECONÓMICAS | C31: =SUM(C32:C37) -> 0 | D31: =SUM(D32:D37) -> 0 | E31: =SUM(E32:E37) -> 0 | F31: =SUM(F32:F37) -> 0 | G31: =SUM(G32:G37) -> 0 | H31: =SUM(H32:H37) -> 0 | I31: =SUM(I32:I37) -> 0 | J31: =SUM(J32:J37) -> 0 | ... L31: =SUM(L32:L37) -> 0 | M31: =SUM(C31:L31) -> 0 | N31: =SUM(N32:N37) -> 0 | O31: 223
A32: 151 | B32: Cuotas para el fondo de ahorro y fondo de trabajo | M32: =SUM(C32:L32) -> 0 | O32: 225
A33: 152 | B33: Indemnizaciones | M33: =SUM(C33:L33) -> 0 | O33: 227
A34: 153 | B34: Prestaciones y haberes de retiro | M34: =SUM(C34:L34) -> 0 | O34: 229
A35: 154 | B35: Prestaciones contractuales | M35: =SUM(C35:L35) -> 0 | O35: Fortalecimiento
A36: 155 | B36: Apoyos a la capacitación de los servidores públicos | M36: =SUM(C36:L36) -> 0 | O36: 202
A37: 159 | B37: Otras prestaciones sociales y económicas | M37: =SUM(C37:L37) -> 0 | O37: 204
A38: 1600 | B38: PREVISIONES | C38: =SUM(C39) -> 0 | D38: =SUM(D39) -> 0 | E38: =SUM(E39) -> 0 | F38: =SUM(F39) -> 0 | G38: =SUM(G39) -> 0 | H38: =SUM(H39) -> 0 | I38: =SUM(I39) -> 0 | J38: =SUM(J39) -> 0 | ... L38: =SUM(L39) -> 0 | M38: =SUM(C38:L38) -> 0 | N38: =SUM(N39) -> 0 | O38: 206
A39: 161 | B39: Previsiones de carácter laboral, económica y de seguridad social | M39: =SUM(C39:L39) -> 0 | O39: 208
A40: 1700 | B40: PAGO DE ESTÍMULOS A SERVIDORES PÚBLICOS | C40: =SUM(C41:C42) -> 0 | D40: =SUM(D41:D42) -> 0 | E40: =SUM(E41:E42) -> 0 | F40: =SUM(F41:F42) -> 0 | G40: =SUM(G41:G42) -> 0 | H40: =SUM(H41:H42) -> 0 | I40: =SUM(I41:I42) -> 0 | J40: =SUM(J41:J42) -> 0 | ... L40: =SUM(L41:L42) -> 0 | M40: =SUM(C40:L40) -> 0 | N40: =SUM(N41:N42) -> 0 | O40: 210
A41: 171 | B41: Estímulos | M41: =SUM(C41:L41) -> 0 | O41: 212
...

Sheet PROYECCIONES INGRESOS
A1: PROYECCIONES Y RESULTADOS DE INGRESOS L D F - 2019
A2: ='ESTIMACIÓN DE INGRESOS'!A2:C2 -> INSTITUTO MUNICIPAL DE LAS MUJERES DE IXTLAHUACAN DE LOS MEMBRILLOS, JALISCO.
A3: CONCEPTOS | E3: EJERCICIO 2016 | F3: EJERCICIO 2017 | G3: EJERCICIO 2018 | H3: ESTIMACIÓN 2019 | I3: VARIACIÓN 2018 - 2019 | J3: EJERCICIO 2020 | K3: EJERCICIO 2021 | L3: EJERCICIO 2022
A5: I N G R E S O S
A6: 1 | B6: IMPUESTOS | E6: =SUM(E7:E15) -> 0 | F6: =SUM(F7:F15) -> 0 | G6: =SUM(G7:G15) -> 0 | H6: =SUM(H7:H15) -> 0 | I6: =H6/G6-1 -> #DIV/0! | J6: =SUM(J7:J15) -> 0 | K6: =SUM(K7:K15) -> 0 | L6: =SUM(L7:L15) -> 0
A7: 1.1 | B7: Impuesto Sobre los Ingresos | H7: ='ESTIMACIÓN DE INGRESOS'!$C$7 -> 0 | I7: =H7/G7-1 -> #DIV/0!
A8: 1.2 | B8: Impuestos Sobre Patrimonio | H8: ='ESTIMACIÓN DE INGRESOS'!$C$9 -> 0 | I8: =H8/G8-1 -> #DIV/0!
A9: 1.3 | B9: Impuestos Sobre la Producción, el Consumo y las Transacciones | H9: ='ESTIMACIÓN DE INGRESOS'!C13 -> 0 | I9: =H9/G9-1 -> #DIV/0!
A10: 1.4 | B10: Impuestos al Comercio Exterior | H10: ='ESTIMACIÓN DE INGRESOS'!C14 -> 0 | I10: =H10/G10-1 -> #DIV/0!
A11: 1.5 | B11: Impuestos Sobre Nóminas y Asimilables | H11: ='ESTIMACIÓN DE INGRESOS'!C15 -> 0 | I11: =H11/G11-1 -> #DIV/0!
A12: 1.6 | B12: Impuestos Ecológicos | H12: ='ESTIMACIÓN DE INGRESOS'!C16 -> 0 | I12: =H12/G12-1 -> #DIV/0!
A13: 1.7 | B13: Accesorios de los Impuestos | H13: ='ESTIMACIÓN DE INGRESOS'!C17 -> 0 | I13: =H13/G13-1 -> #DIV/0!
A14: 1.8 | B14: Otros Impuestos | H14: ='ESTIMACIÓN DE INGRESOS'!C23 -> 0 | I14: =H14/G14-1 -> #DIV/0!
A15: 1.9 | B15: Impuestos no comprendidos en la Ley de Ingresos Vigente, causados en Ejercicios Fiscales Anteriores Pendientes de Liquidación o Pago | H15: ='ESTIMACIÓN DE INGRESOS'!C24 -> 0 | I15: =H15/G15-1 -> #DIV/0!
A16: 2 | B16: CUOTAS Y APORTACIONES DE SEGURIDAD SOCIAL | E16: =SUM(E17:E21) -> 0 | F16: =SUM(F17:F21) -> 0 | G16: =SUM(G17:G21) -> 0 | H16: =SUM(H17:H21) -> 0 | I16: =H16/G16-1 -> #DIV/0! | J16: =SUM(J17:J21) -> 0 | K16: =SUM(K17:K21) -> 0 | L16: =SUM(L17:L21) -> 0
A17: 2.1 | B17: Aportaciones para Fondos de Vivienda | H17: ='ESTIMACIÓN DE INGRESOS'!C26 -> 0 | I17: =H17/G17-1 -> #DIV/0!
A18: 2.2 | B18: Cuotas para el Seguro Social | H18: ='ESTIMACIÓN DE INGRESOS'!C27 -> 0 | I18: =H18/G18-1 -> #DIV/0!
A19: 2.3 | B19: Cuotas de Ahorro para el Retiro | H19: ='ESTIMACIÓN DE INGRESOS'!C28 -> 0 | I19: =H19/G19-1 -> #DIV/0!
A20: 2.4 | B20: Otras Cuotas y Aportaciones para la Seguridad Social | H20: ='ESTIMACIÓN DE INGRESOS'!C29 -> 0 | I20: =H20/G20-1 -> #DIV/0!
A21: 2.5 | B21: Accesorios de Cuotas y Aportaciones de Seguridad Social | H21: ='ESTIMACIÓN DE INGRESOS'!C30 -> 0 | I21: =H21/G21-1 -> #DIV/0!
A22: 3 | B22: CONTRIBUCIONES DE MEJORAS | E22: =SUM(E23:E24) -> 0 | F22: =SUM(F23:F24) -> 0 | G22: =SUM(G23:G24) -> 0 | H22: =SUM(H23:H24) -> 0 | I22: =H22/G22-1 -> #DIV/0! | J22: =SUM(J23:J24) -> 0 | K22: =SUM(K23:K24) -> 0 | L22: =SUM(L23:L24) -> 0
A23: 3.1 | B23: Contribuciones de Mejoras por Obras Públicas | H23: ='ESTIMACIÓN DE INGRESOS'!C32 -> 0 | I23: =H23/G23-1 -> #DIV/0!
A24: 3.9 | B24: Contribuciones de Mejoras no comprendidas en la Ley de Ingresos Vigente, causadas en Ejercicios Anteriores Pendientes de Liquidación o Pago | H24: ='ESTIMACIÓN DE INGRESOS'!C33 -> 0 | I24: =H24/G24-1 -> #DIV/0!
A25: 4 | B25: DERECHOS. | E25: =SUM(E26:E31) -> 0 | F25: =SUM(F26:F31) -> 0 | G25: =SUM(G26:G31) -> 0 | H25: =SUM(H26:H31) -> 0 | I25: =H25/G25-1 -> #DIV/0! | J25: =SUM(J26:J31) -> 0 | K25: =SUM(K26:K31) -> 0 | L25: =SUM(L26:L31) -> 0
A26: 4.1 | B26: Dererechos por el Uso, Goce, Aprovechamiento o Explotación de Bienes de Dominio Público | H26: ='ESTIMACIÓN DE INGRESOS'!$C$35 -> 0 | I26: =H26/G26-1 -> #DIV/0!
A27: 4.2 | B27: Derecho a los Hidrocarburos (Derogado) | H27: ='ESTIMACIÓN DE INGRESOS'!C40 -> 0 | I27: =H27/G27-1 -> #DIV/0!
A28: 4.3 | B28: Derechos por Prestación de Servicios | H28: ='ESTIMACIÓN DE INGRESOS'!C41 -> 0 | I28: =H28/G28-1 -> #DIV/0!
A29: 4.4 | B29: Otros Derechos | H29: ='ESTIMACIÓN DE INGRESOS'!C56 -> 0 | I29: =H29/G29-1 -> #DIV/0!
A30: 4.5 | B30: Accesorios de Derechos | H30: ='ESTIMACIÓN DE INGRESOS'!C57 -> 0 | I30: =H30/G30-1 -> #DIV/0!
A31: 4.9 | B31: Derechos no comprendidos en la Ley de Ingresos Vigente, causados en Ejercicios Fiscales Anteriores Pendientes de Liquidación o Pago | H31: ='ESTIMACIÓN DE INGRESOS'!$C$62 -> 0 | I31: =H31/G31-1 -> #DIV/0!
A32: 5 | B32: PRODUCTOS | E32: =SUM(E33:E35) -> 0 | F32: =SUM(F33:F35) -> 0 | G32: =SUM(G33:G35) -> 0 | H32: =SUM(H33:H35) -> 0 | I32: =H32/G32-1 -> #DIV/0! | J32: =SUM(J33:J35) -> 0 | K32: =SUM(K33:K35) -> 0 | L32: =SUM(L33:L35) -> 0
A33: 5.1 | B33: Productos | H33: ='ESTIMACIÓN DE INGRESOS'!$C$64 -> 0 | I33: =H33/G33-1 -> #DIV/0!
A34: 5.2 | B34: Productos de Capital (Derogado) | H34: ='ESTIMACIÓN DE INGRESOS'!C68 -> 0 | I34: =H34/G34-1 -> #DIV/0!
A35: 5.9 | B35: Productos no Comprendidos en la Ley de Ingresos Vigente, Causados en Ejercicios Fiscales Anteriores Pendientes de Liquidación o Pago | H35: ='ESTIMACIÓN DE INGRESOS'!C69 -> 0 | I35: =H35/G35-1 -> #DIV/0!
A36: 6 | B36: APROVECHAMIENTOS | E36: =SUM(E37:E40) -> 0 | F36: =SUM(F37:F40) -> 0 | G36: =SUM(G37:G40) -> 0 | H36: =SUM(H37:H40) -> 0 | I36: =H36/G36-1 -> #DIV/0! | J36: =SUM(J37:J40) -> 0 | K36: =SUM(K37:K40) -> 0 | L36: =SUM(L37:L40) -> 0
A37: 6.1 | B37: Aprovechamientos | H37: ='ESTIMACIÓN DE INGRESOS'!$C$71 -> 0 | I37: =H37/G37-1 -> #DIV/0!
A38: 6.2 | B38: Aprovechamientos Patrimoniales | H38: ='ESTIMACIÓN DE INGRESOS'!C79 -> 0 | I38: =H38/G38-1 -> #DIV/0!
A39: 6.3 | B39: Accesosrios de Aprovechamientos | H39: ='ESTIMACIÓN DE INGRESOS'!C80 -> 0 | I39: =H39/G39-1 -> #DIV/0!
A40: 6.9 | B40: Aprovechamientos no Comprendidos en la Ley de Ingresos Vigente, Causados en Ejercicios Fiscales Anteriores, Pendientes de Liquidación o Pago | H40: ='ESTIMACIÓN DE INGRESOS'!C81 -> 0 | I40: =H40/G40-1 -> #DIV/0!
A41: 7 | B41: INGRESOS POR VENTA DE BIENES, PRESTACIÓN DE SERVICIOS Y OTROS INGRESOS | E41: =SUM(E42:E50) -> 0 | F41: =SUM(F42:F50) -> 0 | G41: =SUM(G42:G50) -> 0 | H41: =SUM(H42:H50) -> 0 | I41: =H41/G41-1 -> #DIV/0! | J41: =SUM(J42:J50) -> 0 | K41: =SUM(K42:K50) -> 0 | L41: =SUM(L42:L50) -> 0
...

Sheet PROYECCIONES EGRESOS
A1: PROYECCIONES Y RESULTADOS DE EGRESOS LDF - 2019
A2: ='ESTIMACIÓN DE INGRESOS'!A2:C2 -> INSTITUTO MUNICIPAL DE LAS MUJERES DE IXTLAHUACAN DE LOS MEMBRILLOS, JALISCO.
A3: CONCEPTOS | E3: EJERCICIO 2016 | F3: EJERCICIO 2017 | G3: EJERCICIO 2018 | H3: ESTIMACIÓN 2019 | I3: VARIACIÓN 2018- 2019 | J3: EJERCICIO 2020 | K3: EJERCICIO 2021 | L3: EJERCICIO 2022
A5: E G R E S O S
A6: 1000 | B6: SERVICIOS PERSONALES | E6: =SUM(E7:E13) -> 0 | F6: =SUM(F7:F13) -> 0 | G6: =SUM(G7:G13) -> 333332 | H6: =SUM(H7:H13) -> 642643.2 | I6: =H6/G6-1 -> 0.92793731 | J6: =SUM(J7:J13) -> 666000 | K6: =SUM(K7:K13) -> 0 | L6: =SUM(L7:L13) -> 0
A7: 1100 | B7: Remuneraciones al Personal de Carácter Permanente | G7: 289680 | H7: ='PRESUP.EGRESOS FUENTE FINANCIAM'!M7 -> 558673.2 | I7: =H7/G7-1 -> 0.92858741 | J7: 588000
A8: 1200 | B8: Remuneraciones al Personal de Carácter Transitorio | H8: ='PRESUP.EGRESOS FUENTE FINANCIAM'!M12 -> 5000 | I8: =H8/G8-1 -> #DIV/0! | J8: 3000
A9: 1300 | B9: Remuneraciones Adicionales Especiales | G9: 43652 | H9: ='PRESUP.EGRESOS FUENTE FINANCIAM'!M17 -> 78970 | I9: =H9/G9-1 -> 0.80908091 | J9: 75000
A10: 1400 | B10: Seguridad Social | H10: ='PRESUP.EGRESOS FUENTE FINANCIAM'!M26 -> 0 | I10: =H10/G10-1 -> #DIV/0!
A11: 1500 | B11: Otras Prestaciones Sociales y Económicas | H11: ='PRESUP.EGRESOS FUENTE FINANCIAM'!M31 -> 0 | I11: =H11/G11-1 -> #DIV/0!
A12: 1600 | B12: Previsiones | H12: ='PRESUP.EGRESOS FUENTE FINANCIAM'!M38 -> 0 | I12: =H12/G12-1 -> #DIV/0!
A13: 1700 | B13: Pago Estímulos a Servidores Públicos | H13: ='PRESUP.EGRESOS FUENTE FINANCIAM'!M40 -> 0 | I13: =H13/G13-1 -> #DIV/0!
A14: 2000 | B14: MATERIALES Y SUMINISTROS | E14: =SUM(E15:E23) -> 0 | F14: =SUM(F15:F23) -> 0 | G14: =SUM(G15:G23) -> 66668 | H14: =SUM(H15:H23) -> 90256.5 | I14: =H14/G14-1 -> 0.35382042 | J14: =SUM(J15:J23) -> 80000 | K14: =SUM(K15:K23) -> 0 | L14: =SUM(L15:L23) -> 0
A15: 2100 | B15: Materiales de Administración, Emisión de Documentos y Artículos Oficiales | G15: 17000 | H15: ='PRESUP.EGRESOS FUENTE FINANCIAM'!M44 -> 48256.5 | I15: =H15/G15-1 -> 1.8386176 | J15: 40000
A16: 2200 | B16: Alimentos y Utensilios | H16: ='PRESUP.EGRESOS FUENTE FINANCIAM'!M53 -> 0 | I16: =H16/G16-1 -> #DIV/0!
A17: 2300 | B17: Materias Primas y Materiales de Producción y Comercialización | H17: ='PRESUP.EGRESOS FUENTE FINANCIAM'!M57 -> 0 | I17: =H17/G17-1 -> #DIV/0!
A18: 2400 | B18: Materiales y Artículos de Construcción y de Reparación | H18: ='PRESUP.EGRESOS FUENTE FINANCIAM'!M67 -> 10000 | I18: =H18/G18-1 -> #DIV/0! | J18: 8000
A19: 2500 | B19: Productos Químicos, Farmacéuticos y de Laboratorio | G19: 2000 | H19: ='PRESUP.EGRESOS FUENTE FINANCIAM'!M77 -> 0 | I19: =H19/G19-1 -> -1
A20: 2600 | B20: Combustibles, Lubricantes y Aditivos | G20: 47668 | H20: ='PRESUP.EGRESOS FUENTE FINANCIAM'!M85 -> 30000 | I20: =H20/G20-1 -> -0.37064697 | J20: 30000
A21: 2700 | B21: Vestuario, Blancos, Prendas de Protección y Artículos Deportivos | H21: ='PRESUP.EGRESOS FUENTE FINANCIAM'!M88 -> 2000 | I21: =H21/G21-1 -> #DIV/0! | J21: 2000
A22: 2800 | B22: Materiales y Suministros de Seguridad | H22: ='PRESUP.EGRESOS FUENTE FINANCIAM'!M94 -> 0 | I22: =H22/G22-1 -> #DIV/0!
A23: 2900 | B23: Herramientas, Refacciones y Accesorios Menores | H23: ='PRESUP.EGRESOS FUENTE FINANCIAM'!M98 -> 0 | I23: =H23/G23-1 -> #DIV/0!
A24: 3000 | B24: SERVICIOS GENERALES | E24: =SUM(E25:E33) -> 0 | F24: =SUM(F25:F33) -> 0 | G24: =SUM(G25:G33) -> 20000 | H24: =SUM(H25:H33) -> 145100 | I24: =H24/G24-1 -> 6.255 | J24: =SUM(J25:J33) -> 144000 | K24: =SUM(K25:K33) -> 0 | L24: =SUM(L25:L33) -> 0
A25: 3100 | B25: Servicios Básicos | G25: 5000 | H25: ='PRESUP.EGRESOS FUENTE FINANCIAM'!M109 -> 4200 | I25: =H25/G25-1 -> -0.16 | J25: 5000
A26: 3200 | B26: Servicios de Arrendamiento | H26: ='PRESUP.EGRESOS FUENTE FINANCIAM'!M119 -> 72000 | I26: =H26/G26-1 -> #DIV/0! | J26: 72000
A27: 3300 | B27: Servicios Profesionales, Científicos, Técnicos y Otros Servicios | H27: ='PRESUP.EGRESOS FUENTE FINANCIAM'!M129 -> 5000 | I27: =H27/G27-1 -> #DIV/0! | J27: 5000
A28: 3400 | B28: Servicios Financieros, Bancarios y Comerciales | H28: ='PRESUP.EGRESOS FUENTE FINANCIAM'!M139 -> 900 | I28: =H28/G28-1 -> #DIV/0! | J28: 1000
A29: 3500 | B29: Servicios de Instalación, Reparación, Mantenimiento y Conservación | H29: ='PRESUP.EGRESOS FUENTE FINANCIAM'!M149 -> 7000 | I29: =H29/G29-1 -> #DIV/0! | J29: 3000
A30: 3600 | B30: Servicios de Comunicación Social y Publicidad | G30: 5000 | H30: ='PRESUP.EGRESOS FUENTE FINANCIAM'!M159 -> 11000 | I30: =H30/G30-1 -> 1.2 | J30: 8000
A31: 3700 | B31: Servicios de Traslado y Viáticos | H31: ='PRESUP.EGRESOS FUENTE FINANCIAM'!M167 -> 0 | I31: =H31/G31-1 -> #DIV/0!
A32: 3800 | B32: Servicios Oficiales | G32: 10000 | H32: ='PRESUP.EGRESOS FUENTE FINANCIAM'!M177 -> 45000 | I32: =H32/G32-1 -> 3.5 | J32: 50000
A33: 3900 | B33: Otros Servicios Generales | H33: ='PRESUP.EGRESOS FUENTE FINANCIAM'!M183 -> 0 | I33: =H33/G33-1 -> #DIV/0!
A34: 4000 | B34: TRANSFERENCIAS, ASIGNACIONES, SUBSIDIOS Y OTRAS AYUDAS | E34: =SUM(E35:E43) -> 0 | F34: =SUM(F35:F43) -> 0 | G34: =SUM(G35:G43) -> 20000 | H34: =SUM(H35:H43) -> 40000 | I34: =H34/G34-1 -> 1 | J34: =SUM(J35:J43) -> 60000 | K34: =SUM(K35:K43) -> 0 | L34: =SUM(L35:L43) -> 0
A35: 4100 | B35: Transferencias Internas y Asignaciones al Sector Público | H35: ='PRESUP.EGRESOS FUENTE FINANCIAM'!M194 -> 0 | I35: =H35/G35-1 -> #DIV/0!
A36: 4200 | B36: Transferencias al Resto del Sector Público | H36: ='PRESUP.EGRESOS FUENTE FINANCIAM'!M204 -> 0 | I36: =H36/G36-1 -> #DIV/0!
A37: 4300 | B37: Susbsidios y Subvenciones | H37: ='PRESUP.EGRESOS FUENTE FINANCIAM'!M210 -> 0 | I37: =H37/G37-1 -> #DIV/0!
A38: 4400 | B38: Ayudas Sociales | G38: 20000 | H38: ='PRESUP.EGRESOS FUENTE FINANCIAM'!M220 -> 40000 | I38: =H38/G38-1 -> 1 | J38: 60000
A39: 4500 | B39: Pensiones y Jubilaciones | H39: ='PRESUP.EGRESOS FUENTE FINANCIAM'!M229 -> 0 | I39: =H39/G39-1 -> #DIV/0!
A40: 4600 | B40: Transferencias a Fideicomisos, Mandatos y Análogos | H40: ='PRESUP.EGRESOS FUENTE FINANCIAM'!M233 -> 0 | I40: =H40/G40-1 -> #DIV/0!
A41: 4700 | B41: Transferencias a la Seguridad Social | H41: ='PRESUP.EGRESOS FUENTE FINANCIAM'!M241 -> 0 | I41: =H41/G41-1 -> #DIV/0!
...

Sheet CLASIFIC.ADMINISTRATIVA
A1: Presupuesto de Egresos por Clasificación Administrativa 2019
A2: ='ESTIMACIÓN DE INGRESOS'!A2:C2 -> INSTITUTO MUNICIPAL DE LAS MUJERES DE IXTLAHUACAN DE LOS MEMBRILLOS, JALISCO.
A4: CA | B4: UA | C4: Nombre de la unidad responsable | D4: IMPORTE
D5: ANUAL
A6: 3.0.0.0.0. | B6: 0 | C6: SECTOR PÚBLICO MUNICIPAL
A7: 3.1.1.0.0. | B7: 0 | C7: GOBIERNO GENERAL MUNICIPAL
A8: 3.1.1.1.0. | B8: 0 | C8: Gobierno Municipal
A9: 3.1.1.1.1. | B9: 1 | C9: Órgano Ejecutivo Municipal (Ayuntamiento)
A10: 3.1.1.1.1. | B10: 2 | C10: Presidencia
A11: 3.1.1.1.1. | B11: 3 | C11: Dirección General de Relaciones Públicas
A12: 3.1.1.1.1. | B12: 4 | C12: Dirección General de Comunicación Social
A13: 3.1.1.1.1. | B13: 5 | C13: Secretaría Particular
A14: 3.1.1.1.1. | B14: 6 | C14: Secretaría de Ayuntamiento
A15: 3.1.1.1.1. | B15: 7 | C15: Sindicatura
A16: 3.1.1.1.1. | B16: 8 | C16: Tesorería
A17: 3.1.1.1.1. | B17: 9 | C17: Oficialía Mayor Administrativa
... A27: 3.1.1.1.1. | B27: 19 | C27: Dirección de Inovacion Gubernamental y Tecnologías de la Información
C35: Suma | D35: =SUM(D6:D34) -> 0

Sheet CLASIFIC.FUNCIONAL DEL GASTO
A1: Presupuesto de Egresos por Clasificación Funcional del Gasto 2019 (Finalidad, Función y Subfunción)
A2: =CLASIFIC.ADMINISTRATIVA!$A$2 -> INSTITUTO MUNICIPAL DE LAS MUJERES DE IXTLAHUACAN DE LOS MEMBRILLOS, JALISCO.
F3: IMPORTE ANUAL
A5: 1 | B5: GOBIERNO | F5: =SUM(F6+F9+F14+F24+F26+F29+F33+F38) -> 1
A6: 1. | B6: 1. | C6: LEGISLACIÓN | F6: =SUM(F7:F8) -> 1
B7: 1. | C7: 1. | D7: 1 | E7: Legislación | F7: 1
B8: 1. | C8: 1. | D8: 2 | E8: Fiscalización
A9: 1. | B9: 2. | C9: JUSTICIA | F9: =SUM(F10:F13) -> 0
B10: 1. | C10: 2. | D10: 1 | E10: Impartición de Justicia
B11: 1 | C11: 2 | D11: 2 | E11: Procuración de Justicia
B12: 1. | C12: 2. | D12: 3 | E12: Reclusión y Readaptación Social
B13: 1 | C13: 2 | D13: 4 | E13: Derechos Humanos
A14: 1. | B14: 3. | C14: COORDINACIÓN DE LA POLÍTICA DE GOBIERNO | F14: =SUM(F15:F23) -> 0
B15: 1. | C15: 3. | D15: 1 | E15: Presidencia/Gubernatura
B16: 1. | C16: 3. | D16: 2 | E16: Política Interior
B17: 1. | C17: 3. | D17: 3 | E17: Preservación y Cuidado del Patrimonio Público
B18: 1. | C18: 3. | D18: 4 | E18: Función Pública
B19: 1. | C19: 3. | D19: 5 | E19: Asuntos Jurídicos
B20: 1. | C20: 3. | D20: 6 | E20: Organización de Procesos Electorales
B21: 1. | C21: 3. | D21: 7 | E21: Población
B22: 1. | C22: 3. | D22: 8 | E22: Territorio
B23: 1. | C23: 3. | D23: 9 | E23: Otros
A24: 1. | B24: 4. | C24: RELACIONES EXTERIORES | F24: =SUM(F25) -> 0
B25: 1. | C25: 4. | D25: 1 | E25: Relaciones Exteriores
A26: 1. | B26: 5. | C26: ASUNTOS FINANCIEROS Y HACENDARIOS | F26: =SUM(F27:F28) -> 0
B27: 1. | C27: 5. | D27: 1 | E27: Asuntos Financieros
B28: 1. | C28: 5. | D28: 2 | E28: Asuntos Hacendarios
A29: 1. | B29: 6. | C29: SEGURIDAD NACIONAL | F29: =SUM(F30:F32) -> 0
B30: 1. | C30: 6. | D30: 1 | E30: Defensa
B31: 1. | C31: 6. | D31: 2 | E31: Marina
B32: 1. | C32: 6. | D32: 3 | E32: Inteligencia para la Preservación de la Seguridad Nacional
A33: 1. | B33: 7. | C33: ASUNTOS DE ORDEN PÚBLICO Y DE SEGURIDAD INTERIOR | F33: =SUM(F34:F37) -> 0
B34: 1. | C34: 7. | D34: 1 | E34: Policía
B35: 1. | C35: 7. | D35: 2 | E35: Protección Civil
B36: 1. | C36: 7. | D36: 3 | E36: Otros Asuntos de Orden Público y Seguridad
B37: 1. | C37: 7. | D37: 4 | E37: Sistema Nacional de Seguridad Pública
A38: 1. | B38: 8. | C38: OTROS SERVICIOS GENERALES | F38: =SUM(F39:F43) -> 0
B39: 1. | C39: 8. | D39: 1 | E39: Servicios Registrales, Administrativos y Patrimoniales
B40: 1. | C40: 8. | D40: 2 | E40: Servicios Estadísticos
B41: 1. | C41: 8. | D41: 3 | E41: Servicios de Comunicación y Medios
...

Sheet ESTUDIOS ACTUARIALES
A1: INFORME SOBRE ESTUDIOS ACTUARIALES LDF 2019
A2: ='ESTIMACIÓN DE INGRESOS'!A2:C2 -> INSTITUTO MUNICIPAL DE LAS MUJERES DE IXTLAHUACAN DE LOS MEMBRILLOS, JALISCO.
C3: Pensiones y Jubilaciones | D3: Salud | E3: Riesgo de Trabajo | F3: Invalidez y Vida | G3: Otras Prestaciones Sociales
A5: Tipo de Sistema
B6: Prestación Laboral o Fondo General para Trabajadores del Estado o Municipio
B7: Beneficio definido, Contribución Definida o Mixto
A8: Prestación Afiliada
B9: Activos
B10: Edad Máxima
B11: Edad Mínima
B12: Edad Promedio
B13: Pensionados y Jubilados
B14: Edad Máxima
B15: Edad Mínima
B16: Edad Promedio
B17: Beneficiarios
B18: Promedio de Años de Servicio (Trabajadores Activos)
B19: Aportación Individual al Plan de Pensión como % del Salario
B20: Crecimiento Esperdo de los Pensionados y Jubilados (como%)
... B23: Esperanza de Vida
A24: Ingreso del Fondo
B25: Ingresos Anuales al Fondo de Pensiones
A26: Nómina Anual
B27: Activos
B28: Pensionados y Jubilados
B29: Beneficiarios de Pensionados y Jubilados
A30: Monto Mensual por Pensión
B31: Máximo
B32: Mínimo
B33: Promedio
A34: Monto de la Reserva
A35: Valor presente de las Obligaciones
B36: Pensiones y Jubilaciones en Curso de Pago
B37: Generación actual
B38: Generaciones futuras
A39: Valor presente de las Contribuciones Asociadas a los Sueldos Futuros de Cotización X%
B40: Generación Actual
B41: Generaciones Futuras
B42: Otros Ingresos
A43: Déficit/Superávit
...

Sheet PLANTILLA  
A1: Plantilla de Personal de Carácter Permanente 2019
A2: INSTITUTO MUNICIPAL DE LAS MUJERES DE IXTLAHUACAN DE LOS MEMBRILLOS JALISCO
A4: Nombre de la Plaza | P4: Adscripción de la Plaza | AD4: FF | AG4: No. Plazas | AK4: 111-113 | AY4: 131 | BG4: 132 | BO4: 132 | BW4: 133 | CE4: 134 | CN4: 1500 Otras Prestaciones | CV4: Suma Total de Remuneraciones
AK5: Dietas y Sueldo Base | AY5: Primas por años | BG5: Prima Vacacional y Dominical | BO5: Gratificación de Fin de Año (Aguinaldo) | BW5: Horas Extraordinarias | CE5: Compensaciones
AK6: Mensual | AQ6: Anual | AY6: de Servicios Efectivos Prestados
AG7: 35480
AQ8: =AG8*AK8*12 -> 0 | BO8: =AQ8/365*50 -> 0 | CV8: =SUM(AQ8:CU8) -> 0
AQ9: =AG9*AK9*12 -> 0 | BO9: =AQ9/365*50 -> 0 | CV9: =SUM(AQ9:CU9) -> 0
AQ10: =AG10*AK10*12 -> 0 | BO10: =AQ10/365*50 -> 0 | CV10: =SUM(AQ10:CU10) -> 0
AQ11: =AG11*AK11*12 -> 0 | BO11: =AQ11/365*50 -> 0 | CV11: =SUM(AQ11:CU11) -> 0
AQ12: =AG12*AK12*12 -> 0 | BO12: =AQ12/365*50 -> 0 | CV12: =SUM(AQ12:CU12) -> 0
AQ13: =AG13*AK13*12 -> 0 | BO13: =AQ13/365*50 -> 0 | CV13: =SUM(AQ13:CU13) -> 0
AQ14: =AG14*AK14*12 -> 0 | BO14: =AQ14/365*50 -> 0 | CV14: =SUM(AQ14:CU14) -> 0
AQ15: =AG15*AK15*12 -> 0 | BO15: =AQ15/365*50 -> 0 | CV15: =SUM(AQ15:CU15) -> 0
AQ16: =AG16*AK16*12 -> 0 | BO16: =AQ16/365*50 -> 0 | CV16: =SUM(AQ16:CU16) -> 0
AQ17: =AG17*AK17*12 -> 0 | BO17: =AQ17/365*50 -> 0 | CV17: =SUM(AQ17:CU17) -> 0
AQ18: =AG18*AK18*12 -> 0 | BO18: =AQ18/365*50 -> 0 | CV18: =SUM(AQ18:CU18) -> 0
AQ19: =AG19*AK19*12 -> 0 | BO19: =AQ19/365*50 -> 0 | CV19: =SUM(AQ19:CU19) -> 0
... AQ106: =AG106*AK106*12 -> 0 | BO106: =AQ106/365*50 -> 0 | CV106: =SUM(AQ106:CU106) -> 0
AQ107: 0 | BO107: 0 | CV107: 0
AQ108: =AG108*AK108*12 -> 0 | BO108: =AQ108/365*50 -> 0 | CV108: =SUM(AQ108:CU108) -> 0
A109: TOTALES | AG109: =SUM(AG8:AJ108) -> 0 | AK109: =SUM(AK8:AP108) -> 0 | AQ109: =SUM(AQ8:AX108) -> 0 | AY109: =SUM(AY8:BF108) -> 0 | BG109: =SUM(BG8:BN108) -> 0 | BO109: =SUM(BO8:BV108) -> 0 | BW109: =SUM(BW8:CD108) -> 0 | CE109: =SUM(CE8:CM108) -> 0 | CN109: =SUM(CN8:CU108) -> 0 | CV109: =SUM(CV8:DE108) -> 0

Sheet  CAT. FUNCION, SUB FUNCION
A1: Catalógo para Presupuesto de Egresos Funcional Programática
A2: F | B2: FN | C2: SF | D2: Descripción | E2: Definición
A3: 1 | B3: 0 | C3: 0 | D3: GOBIERNO | E3: Comprende las acciones propias de la gestión gubernamental, tales como la administración de asuntos de carácter legislativo, procuración e impartición de justicia, asuntos militares y seguridad nacional, asuntos con el exterior, asuntos hacendarios, política interior, organización de los procesos electorales, regulación y normatividad aplicable a los particulares y al propio sector público y la administración interna del sector público.
A4: 1 | B4: 1 | C4: 0 | D4: LEGISLACIÓN | E4: Comprende las acciones relativas a la iniciativa, revisión, elaboración, aprobación, emisión y difusión de leyes, reglamentos y acuerdos; así como la fiscalización de la cuenta pública, entre otras.
A5: 1 | B5: 1 | C5: 1 | D5: Legislación | E5: Comprende las acciones relativas a la iniciativa, revisión, elaboración, aprobación, emisión y difusión de leyes, decretos, reglamentos y acuerdos, a quienes la constitución política del país y de las entidades federativas les otorgan la facultad de hacerlo.
A6: 1 | B6: 1 | C6: 2 | D6: Fiscalización | E6: Comprende las acciones relativas a la fiscalización de la rendición de cuentas.
A7: 1 | B7: 2 | C7: 0 | D7: JUSTICIA | E7: Comprende la Administración de la Procuración e Impartición de la Justicia, como las acciones de las fases de investigación, acopio de pruebas e indicios, hasta la imposición, ejecución y cumplimiento de resoluciones de carácter penal, civil, familiar, administrativo, laboral, electoral; del conocimiento y calificación de las infracciones e imposición de sanciones en contra de quienes presuntamente han violado la Ley o disputen un derecho, exijan su reconocimiento o en su caso impongan obligaciones. Así como las acciones orientadas a la persecución oficiosa o a petición de parte ofendida, de las conductas que transgreden las disposiciones legales, las acciones de representación de los intereses sociales en juicios y procedimientos que se realizan ante las instancias de justicia correspondiente. Incluye la administración de los centros de reclusión y readaptación. Así como los programas, actividades y proyectos relacionados con los derechos humanos, entre otros.
A8: 1 | B8: 2 | C8: 1 | D8: Impartición de Justicia | E8: Comprende las acciones que desarrollan el Poder Judicial, los Tribunales Agrarios, Fiscales y Administrativos, así como las relativas a la impartición de justicia en materia laboral. Incluye infraestructura y equipamiento necesarios.
A9: 1 | B9: 2 | C9: 2 | D9: Procuración de Justicia | E9: Comprende la administración de las actividades inherentes a la procuración de justicia, así como la infraestructura y equipamiento.
A10: 1 | B10: 2 | C10: 3 | D10: Reclusión y Readaptación Social | E10: Comprende la administración, gestión o apoyo de los centros de reclusión y readaptación social, así como acciones encaminadas a corregir conductas antisociales de quienes infringieron la ley y que por tal razón purgan la pena correspondiente en Centros de Reclusión y Readaptación Social para adultos y menores infractores. incluye la infraestructura y el equipamiento necesario.
A11: 1 | B11: 2 | C11: 4 | D11: Derechos Humanos | E11: Comprende actividades relacionadas con la protección, observancia, promoción, estudio y divulgación de los derechos humanos en los ámbitos estatal, nacional e internacional. Incluye acciones orientadas a la organización del poder público que permita asegurar jurídicamente el pleno goce de los derechos humanos, así como al impulso del respeto y garantía de los mismos.
A12: 1 | B12: 3 | C12: 0 | D12: COORDINACIÓN DE LA POLÍTICA DE GOBIERNO | E12: Comprende las acciones enfocadas a la formulación y establecimiento de las directrices, lineamientos de acción y estrategias de gobierno.
A13: 1 | B13: 3 | C13: 1 | D13: Presidencia / Gubernatura | E13: Comprende las actividades que desarrollan las oficinas del Titular del Poder Ejecutivo de la Federación, Entidades Federativas y Municipios.
A14: 1 | B14: 3 | C14: 2 | D14: Política Interior | E14: Incluye la planeación, formulación, diseño, ejecución e implantación de la política del desarrollo político y las actividades de enlace con el Congreso.
... A132: 4 | B132: 4 | C132: 1 | D132: Adeudo de Ejercicios Fiscales Anteriores | E132: Comprende los pagos que realiza el Gobierno derivados del gasto devengado no pagado de ejercicios fiscales anteriores.
